BEGIN:VCALENDAR
VERSION:2.0
PRODID:-//North Bay Community Church - ECPv6.15.19//NONSGML v1.0//EN
CALSCALE:GREGORIAN
METHOD:PUBLISH
X-WR-CALNAME:North Bay Community Church
X-ORIGINAL-URL:https://www.northbaychurch.org
X-WR-CALDESC:Events for North Bay Community Church
REFRESH-INTERVAL;VALUE=DURATION:PT1H
X-Robots-Tag:noindex
X-PUBLISHED-TTL:PT1H
BEGIN:VTIMEZONE
TZID:America/Chicago
BEGIN:DAYLIGHT
TZOFFSETFROM:-0600
TZOFFSETTO:-0500
TZNAME:CDT
DTSTART:20200308T080000
END:DAYLIGHT
BEGIN:STANDARD
TZOFFSETFROM:-0500
TZOFFSETTO:-0600
TZNAME:CST
DTSTART:20201101T070000
END:STANDARD
BEGIN:DAYLIGHT
TZOFFSETFROM:-0600
TZOFFSETTO:-0500
TZNAME:CDT
DTSTART:20210314T080000
END:DAYLIGHT
BEGIN:STANDARD
TZOFFSETFROM:-0500
TZOFFSETTO:-0600
TZNAME:CST
DTSTART:20211107T070000
END:STANDARD
BEGIN:DAYLIGHT
TZOFFSETFROM:-0600
TZOFFSETTO:-0500
TZNAME:CDT
DTSTART:20220313T080000
END:DAYLIGHT
BEGIN:STANDARD
TZOFFSETFROM:-0500
TZOFFSETTO:-0600
TZNAME:CST
DTSTART:20221106T070000
END:STANDARD
END:VTIMEZONE
BEGIN:VEVENT
DTSTART;TZID=America/Chicago:20210729T123000
DTEND;TZID=America/Chicago:20210729T163000
DTSTAMP:20260421T110718
CREATED:20210715T234849Z
LAST-MODIFIED:20210716T011747Z
UID:4630-1627561800-1627576200@www.northbaychurch.org
SUMMARY:Countryside Fellowship Potluck
DESCRIPTION:Listen up church family! This summer\, one of the wonderful families at our church is opening up their beautiful property in the country for a time of fellowship\, food\, and prayer. Here are the details you need to know! \nThe Hosts: The Sells – Matt\, Tonja\, Asher & Jude \nContact Info: \n\n715-372-4381\ndoartworx@gmail.com\n\nWhere: 1675 West Colby Road\, Brule\, WI 54820 (about 35 min from Superior and next to the Oulu Glass Gallery) \nWhen: \n\nThursday July 29th: 5:30 – LATE\nWednesday\, Aug 25th: 5:30 – LATE\n\nWhat: A casual time of fellowship including worship & optional prayer time. \nDetails: This event will have a potluck style meal. Bring something for the grill and something to share. The Sell’s will provide picnic ware\, lemonade\, ice tea\, coffee\, and ice cream. Musicians/vocalists\, please bring instruments and share your gifts during a time of worship! \nChildren: Kids welcome! Older kids will watch little ones during prayer-time. There is a shallow pond with a “beach” with sand\, frogs\, turtles\, etc.! For the older kids\, there is a volleyball & basketball area set up. Please bring any lawn games you enjoy. There is also have a fire-pit that will be used. for use. We will eat at 6:00\, come early and stay late!
URL:https://www.northbaychurch.org/event/countryside-fellowship-potluck/2021-07-29/
LOCATION:1675 West Colby Road\, Brule\, WI 54820\, 1675 West Colby Road\, Brule\, WI\, 54820\, United States
END:VEVENT
END:VCALENDAR