BEGIN:VCALENDAR
VERSION:2.0
PRODID:-//North Bay Community Church - ECPv6.15.19//NONSGML v1.0//EN
CALSCALE:GREGORIAN
METHOD:PUBLISH
X-WR-CALNAME:North Bay Community Church
X-ORIGINAL-URL:https://www.northbaychurch.org
X-WR-CALDESC:Events for North Bay Community Church
REFRESH-INTERVAL;VALUE=DURATION:PT1H
X-Robots-Tag:noindex
X-PUBLISHED-TTL:PT1H
BEGIN:VTIMEZONE
TZID:America/Chicago
BEGIN:DAYLIGHT
TZOFFSETFROM:-0600
TZOFFSETTO:-0500
TZNAME:CDT
DTSTART:20240310T080000
END:DAYLIGHT
BEGIN:STANDARD
TZOFFSETFROM:-0500
TZOFFSETTO:-0600
TZNAME:CST
DTSTART:20241103T070000
END:STANDARD
BEGIN:DAYLIGHT
TZOFFSETFROM:-0600
TZOFFSETTO:-0500
TZNAME:CDT
DTSTART:20250309T080000
END:DAYLIGHT
BEGIN:STANDARD
TZOFFSETFROM:-0500
TZOFFSETTO:-0600
TZNAME:CST
DTSTART:20251102T070000
END:STANDARD
BEGIN:DAYLIGHT
TZOFFSETFROM:-0600
TZOFFSETTO:-0500
TZNAME:CDT
DTSTART:20260308T080000
END:DAYLIGHT
BEGIN:STANDARD
TZOFFSETFROM:-0500
TZOFFSETTO:-0600
TZNAME:CST
DTSTART:20261101T070000
END:STANDARD
END:VTIMEZONE
BEGIN:VEVENT
DTSTART;TZID=America/Chicago:20250702T180000
DTEND;TZID=America/Chicago:20250702T193000
DTSTAMP:20260422T061353
CREATED:20250603T015918Z
LAST-MODIFIED:20250607T192028Z
UID:8286-1751479200-1751484600@www.northbaychurch.org
SUMMARY:Wednesday Family Night
DESCRIPTION:Our Wednesday Family Nights start at 6pm. \n\nWisdom Wednesdays\n\nfor kids in grades 1-5\nLeaders: Josh\, Linda\, & Lauren\nLocations: Gym\n\n\nBible Study\n\nfor Men & Women\nLeaders: Kelly & Margaret Johnson\nLocation: upstairs\n\n\nBible Study \n\nfor Men\nLeader: Joel Ransom\nLocation: upstairs
URL:https://www.northbaychurch.org/event/wednesday-family-night/2025-07-02/
CATEGORIES:Bible Study,Children,Family,Men,Women
END:VEVENT
END:VCALENDAR