BEGIN:VCALENDAR
VERSION:2.0
PRODID:-//North Bay Community Church - ECPv6.15.19//NONSGML v1.0//EN
CALSCALE:GREGORIAN
METHOD:PUBLISH
X-WR-CALNAME:North Bay Community Church
X-ORIGINAL-URL:https://www.northbaychurch.org
X-WR-CALDESC:Events for North Bay Community Church
REFRESH-INTERVAL;VALUE=DURATION:PT1H
X-Robots-Tag:noindex
X-PUBLISHED-TTL:PT1H
BEGIN:VTIMEZONE
TZID:America/Chicago
BEGIN:DAYLIGHT
TZOFFSETFROM:-0600
TZOFFSETTO:-0500
TZNAME:CDT
DTSTART:20200308T080000
END:DAYLIGHT
BEGIN:STANDARD
TZOFFSETFROM:-0500
TZOFFSETTO:-0600
TZNAME:CST
DTSTART:20201101T070000
END:STANDARD
BEGIN:DAYLIGHT
TZOFFSETFROM:-0600
TZOFFSETTO:-0500
TZNAME:CDT
DTSTART:20210314T080000
END:DAYLIGHT
BEGIN:STANDARD
TZOFFSETFROM:-0500
TZOFFSETTO:-0600
TZNAME:CST
DTSTART:20211107T070000
END:STANDARD
BEGIN:DAYLIGHT
TZOFFSETFROM:-0600
TZOFFSETTO:-0500
TZNAME:CDT
DTSTART:20220313T080000
END:DAYLIGHT
BEGIN:STANDARD
TZOFFSETFROM:-0500
TZOFFSETTO:-0600
TZNAME:CST
DTSTART:20221106T070000
END:STANDARD
BEGIN:DAYLIGHT
TZOFFSETFROM:-0600
TZOFFSETTO:-0500
TZNAME:CDT
DTSTART:20230312T080000
END:DAYLIGHT
BEGIN:STANDARD
TZOFFSETFROM:-0500
TZOFFSETTO:-0600
TZNAME:CST
DTSTART:20231105T070000
END:STANDARD
END:VTIMEZONE
BEGIN:VEVENT
DTSTART;TZID=America/Chicago:20220120T123000
DTEND;TZID=America/Chicago:20220120T140000
DTSTAMP:20260423T121806
CREATED:20210419T215251Z
LAST-MODIFIED:20220116T023938Z
UID:4158-1642681800-1642687200@www.northbaychurch.org
SUMMARY:College Women Bible Study
DESCRIPTION:All college-aged women are invited to attend a Bible Study designed just for them! This study is led by one of our volunteer leader’s at the church\, Ann Thomas\, and it meets every Thursday at 6:30pm at the home of Ann Thomas. This will be a great way to study God’s Word\, meet other people\, and grow in your faith. \nIf you are interested or would like more information\, please reach out to Ann Thomas at: ann.m.thomas@live.com \n  \n 
URL:https://www.northbaychurch.org/event/college-women-bible-study/2022-01-20/
CATEGORIES:Bible Study,College,Women
ATTACH;FMTTYPE=image/jpeg:https://northbaychurch-media.s3.us-east-2.amazonaws.com/wp-content/uploads/2021/04/02180431/College-Women-Bible-Study.jpg
END:VEVENT
BEGIN:VEVENT
DTSTART;TZID=America/Chicago:20211010T033000
DTEND;TZID=America/Chicago:20211010T043000
DTSTAMP:20260423T121806
CREATED:20211007T222556Z
LAST-MODIFIED:20211007T222556Z
UID:4913-1633836600-1633840200@www.northbaychurch.org
SUMMARY:College Women Bible Study
DESCRIPTION:College-aged women at North Bay\, there is a great opportunity at the church to study God’s Word and connect with other women of faith. Starting back up on Sunday mornings at 8:30am\, we will be having our verse by verse Bible study through the gospel of Mark\, led by Ann Thomas (ann.m.thomas@live.com). The location changes from Sunday to Sunday. \nIf you are interested in studying God’s Word and connecting with other women of faith\, please reach out to Ann Thomas and get plugged in today!
URL:https://www.northbaychurch.org/event/college-women-bible-study-2/2021-10-10/
CATEGORIES:College,Women
ATTACH;FMTTYPE=image/jpeg:https://northbaychurch-media.s3.us-east-2.amazonaws.com/wp-content/uploads/2021/04/02180431/College-Women-Bible-Study.jpg
ORGANIZER;CN="Ann Thomas":MAILTO:ann.m.thomas@live.com
END:VEVENT
END:VCALENDAR