BEGIN:VCALENDAR
VERSION:2.0
PRODID:-//North Bay Community Church - ECPv6.15.19//NONSGML v1.0//EN
CALSCALE:GREGORIAN
METHOD:PUBLISH
X-WR-CALNAME:North Bay Community Church
X-ORIGINAL-URL:https://www.northbaychurch.org
X-WR-CALDESC:Events for North Bay Community Church
REFRESH-INTERVAL;VALUE=DURATION:PT1H
X-Robots-Tag:noindex
X-PUBLISHED-TTL:PT1H
BEGIN:VTIMEZONE
TZID:America/Chicago
BEGIN:DAYLIGHT
TZOFFSETFROM:-0600
TZOFFSETTO:-0500
TZNAME:CDT
DTSTART:20220313T080000
END:DAYLIGHT
BEGIN:STANDARD
TZOFFSETFROM:-0500
TZOFFSETTO:-0600
TZNAME:CST
DTSTART:20221106T070000
END:STANDARD
BEGIN:DAYLIGHT
TZOFFSETFROM:-0600
TZOFFSETTO:-0500
TZNAME:CDT
DTSTART:20230312T080000
END:DAYLIGHT
BEGIN:STANDARD
TZOFFSETFROM:-0500
TZOFFSETTO:-0600
TZNAME:CST
DTSTART:20231105T070000
END:STANDARD
BEGIN:DAYLIGHT
TZOFFSETFROM:-0600
TZOFFSETTO:-0500
TZNAME:CDT
DTSTART:20240310T080000
END:DAYLIGHT
BEGIN:STANDARD
TZOFFSETFROM:-0500
TZOFFSETTO:-0600
TZNAME:CST
DTSTART:20241103T070000
END:STANDARD
END:VTIMEZONE
BEGIN:VEVENT
DTSTART;TZID=America/Chicago:20230929T070000
DTEND;TZID=America/Chicago:20230929T080000
DTSTAMP:20260419T072229
CREATED:20230922T191020Z
LAST-MODIFIED:20230922T191020Z
UID:7452-1695970800-1695974400@www.northbaychurch.org
SUMMARY:Friday Morning Prayer
DESCRIPTION:The North Bay Church community is invited to join in a time of prayer in person at the church on Friday morning. We will meet at 7am and pray for about 30-45min. Our focus is to pray for our church\, ministries\, leaders\, and to center them all on God. \nMake me to know your ways\, O LORD; teach me your paths. Lead me in your truth and teach me\, for you are the God of my salvation; for you I wait all the day long. – Psalm 25:4-5 \nPlease reach out to RaeAnn Johnson with any questions! \n\nWhen: Friday\, Sept. 29th\nTime: 7:00am\nWhere: North Bay Community Church
URL:https://www.northbaychurch.org/event/friday-morning-prayer/
LOCATION:North Bay Community Church\, 1316 E 5th St.\, Superior\, WI\, 54880\, United States
CATEGORIES:Community,Prayer
END:VEVENT
BEGIN:VEVENT
DTSTART;TZID=America/Chicago:20230507T183000
DTEND;TZID=America/Chicago:20230507T203000
DTSTAMP:20260419T072229
CREATED:20230205T051746Z
LAST-MODIFIED:20230427T180853Z
UID:6541-1683484200-1683491400@www.northbaychurch.org
SUMMARY:Worship Night
DESCRIPTION:Join us for an evening of worship on the first Sunday of every month! This is a wonderful opportunity to gather in a more intimate and focused time of worship\, prayer and more. \nThis Sunday\, all are encouraged to bring canned goods to replenish the Salvation Army’s food shelf! \n  \nIf you have questions\, or would like to be involved in worship or prayer ministry\, please contact the Church Office. \ninfo@northbaychurch.org
URL:https://www.northbaychurch.org/event/worship-night-2-2023-05-07/
LOCATION:North Bay Community Church – Sanctuary\, 1316 East 5th St\, Superior\, WI\, 54880\, United States
CATEGORIES:Family,Prayer,Worship
ATTACH;FMTTYPE=image/png:https://northbaychurch-media.s3.us-east-2.amazonaws.com/wp-content/uploads/2021/09/02180110/Worship-Night-Graphic.png
END:VEVENT
END:VCALENDAR