BEGIN:VCALENDAR
VERSION:2.0
PRODID:-//North Bay Community Church - ECPv6.15.19//NONSGML v1.0//EN
CALSCALE:GREGORIAN
METHOD:PUBLISH
X-ORIGINAL-URL:https://www.northbaychurch.org
X-WR-CALDESC:Events for North Bay Community Church
REFRESH-INTERVAL;VALUE=DURATION:PT1H
X-Robots-Tag:noindex
X-PUBLISHED-TTL:PT1H
BEGIN:VTIMEZONE
TZID:America/Chicago
BEGIN:DAYLIGHT
TZOFFSETFROM:-0600
TZOFFSETTO:-0500
TZNAME:CDT
DTSTART:20250309T080000
END:DAYLIGHT
BEGIN:STANDARD
TZOFFSETFROM:-0500
TZOFFSETTO:-0600
TZNAME:CST
DTSTART:20251102T070000
END:STANDARD
BEGIN:DAYLIGHT
TZOFFSETFROM:-0600
TZOFFSETTO:-0500
TZNAME:CDT
DTSTART:20260308T080000
END:DAYLIGHT
BEGIN:STANDARD
TZOFFSETFROM:-0500
TZOFFSETTO:-0600
TZNAME:CST
DTSTART:20261101T070000
END:STANDARD
BEGIN:DAYLIGHT
TZOFFSETFROM:-0600
TZOFFSETTO:-0500
TZNAME:CDT
DTSTART:20270314T080000
END:DAYLIGHT
BEGIN:STANDARD
TZOFFSETFROM:-0500
TZOFFSETTO:-0600
TZNAME:CST
DTSTART:20271107T070000
END:STANDARD
END:VTIMEZONE
BEGIN:VEVENT
DTSTART;TZID=America/Chicago:20260403T170000
DTEND;TZID=America/Chicago:20260403T180000
DTSTAMP:20260419T070337
CREATED:20260324T013937Z
LAST-MODIFIED:20260324T013937Z
UID:8492-1775235600-1775239200@www.northbaychurch.org
SUMMARY:Good Friday Service
DESCRIPTION:Join us Friday\, April 3 at North Bay Community Church at 5:00pm for a special Good Friday service. \nThis is a unique service that is designed to help us slow down and contemplate the death of Christ. \nAnyone who would like to attend should plan to do the following \n\nDress in dark clothes\nPrepare your heart for contemplation\nLeave the service in silence\nThe solemnity of our Good Friday service is a special time in the life of the church.\n\nWe would love to have you join us. For more information about our Good Friday service\, please email the church office: info@northbaychurch.org.
URL:https://www.northbaychurch.org/event/good-friday-service-5/
END:VEVENT
BEGIN:VEVENT
DTSTART;TZID=America/Chicago:20260404T130000
DTEND;TZID=America/Chicago:20260404T150000
DTSTAMP:20260419T070337
CREATED:20260324T014323Z
LAST-MODIFIED:20260324T014323Z
UID:8493-1775307600-1775314800@www.northbaychurch.org
SUMMARY:Easter Extravaganza
DESCRIPTION:Our Children’s Ministry is hosting an Easter Extravaganza! Kids aged 2 years through 5th grade are invited to come celebrate. There will be an egg hunt\, cake walk\, crafts\, and plenty of treats.  This event is free\, so make sure to invite your family and friends! \n\nWhen: Saturday\, April 4\nTime: 1:00-3:00pm\nWhere: North Bay Community Church\n\nIf you have any questions or would like to volunteer\, please contact the church office.
URL:https://www.northbaychurch.org/event/easter-extravaganza-4/
END:VEVENT
BEGIN:VEVENT
DTSTART;TZID=America/Chicago:20260405T100000
DTEND;TZID=America/Chicago:20260405T113000
DTSTAMP:20260419T070337
CREATED:20240720T202413Z
LAST-MODIFIED:20240720T202413Z
UID:8511-1775383200-1775388600@www.northbaychurch.org
SUMMARY:Sunday Morning Worship
DESCRIPTION:Every Sunday morning we lift high the name of Jesus during our worship service.  We would love to have you worship God with us! \n\nIn-Person Worship starts at 10:00 a.m. as is located at our church building (1316 E 5th St.\, Superior\, WI 54880)\nDuring our in-person worship service we offer a nursery for babies and toddlers\, and children’s church for ages 3-5th grade. We have a wonderful group of volunteers that would love to serve your family.\nWe also offer an online live-streamed worship service on our Facebook Page.\n\n 
URL:https://www.northbaychurch.org/event/sunday-morning-worship-5/2026-04-05/
LOCATION:North Bay Community Church\, 1316 E 5th St.\, Superior\, WI\, 54880\, United States
END:VEVENT
BEGIN:VEVENT
DTSTART;TZID=America/Chicago:20260412T100000
DTEND;TZID=America/Chicago:20260412T113000
DTSTAMP:20260419T070337
CREATED:20240720T202413Z
LAST-MODIFIED:20240720T202413Z
UID:8512-1775988000-1775993400@www.northbaychurch.org
SUMMARY:Sunday Morning Worship
DESCRIPTION:Every Sunday morning we lift high the name of Jesus during our worship service.  We would love to have you worship God with us! \n\nIn-Person Worship starts at 10:00 a.m. as is located at our church building (1316 E 5th St.\, Superior\, WI 54880)\nDuring our in-person worship service we offer a nursery for babies and toddlers\, and children’s church for ages 3-5th grade. We have a wonderful group of volunteers that would love to serve your family.\nWe also offer an online live-streamed worship service on our Facebook Page.\n\n 
URL:https://www.northbaychurch.org/event/sunday-morning-worship-5/2026-04-12/
LOCATION:North Bay Community Church\, 1316 E 5th St.\, Superior\, WI\, 54880\, United States
END:VEVENT
BEGIN:VEVENT
DTSTART;TZID=America/Chicago:20260418T083000
DTEND;TZID=America/Chicago:20260418T103000
DTSTAMP:20260419T070337
CREATED:20260412T012955Z
LAST-MODIFIED:20260412T012955Z
UID:8533-1776501000-1776508200@www.northbaychurch.org
SUMMARY:Freezer Meal Prep
DESCRIPTION:Well\, church\, exciting times at North Bay with so many babies on the way!  And we want to be prepared.  So\, on Saturday\, April 18th\, we will be assembling freezer meals for just that event.  Join us at 8:30 a.m. (breakfast will be served) as we work together to provide for our growing families.  Many hands make light work\, so if we have a good group; we should be done in less than two hours.  All are welcome to join us. \nDate: Saturday\, April 18\nTime: 8:30 a.m.
URL:https://www.northbaychurch.org/event/freezer-meal-prep/
END:VEVENT
BEGIN:VEVENT
DTSTART;TZID=America/Chicago:20260418T090000
DTEND;TZID=America/Chicago:20260418T110000
DTSTAMP:20260419T070337
CREATED:20260412T013205Z
LAST-MODIFIED:20260412T013205Z
UID:8534-1776502800-1776510000@www.northbaychurch.org
SUMMARY:Pickelball
DESCRIPTION:Pickleball at the church! \nSaturday\, April 18\, 9-11am. This is a “beginner pickleball” event and everyone is welcome. Connect with Bob D with any questions.
URL:https://www.northbaychurch.org/event/pickelball/
ATTACH;FMTTYPE=image/jpeg:https://northbaychurch-media.s3.us-east-2.amazonaws.com/wp-content/uploads/2026/04/11203129/2024-2-25-Announcements-2.jpg
END:VEVENT
BEGIN:VEVENT
DTSTART;TZID=America/Chicago:20260419T100000
DTEND;TZID=America/Chicago:20260419T113000
DTSTAMP:20260419T070337
CREATED:20240720T202413Z
LAST-MODIFIED:20240720T202413Z
UID:8513-1776592800-1776598200@www.northbaychurch.org
SUMMARY:Sunday Morning Worship
DESCRIPTION:Every Sunday morning we lift high the name of Jesus during our worship service.  We would love to have you worship God with us! \n\nIn-Person Worship starts at 10:00 a.m. as is located at our church building (1316 E 5th St.\, Superior\, WI 54880)\nDuring our in-person worship service we offer a nursery for babies and toddlers\, and children’s church for ages 3-5th grade. We have a wonderful group of volunteers that would love to serve your family.\nWe also offer an online live-streamed worship service on our Facebook Page.\n\n 
URL:https://www.northbaychurch.org/event/sunday-morning-worship-5/2026-04-19/
LOCATION:North Bay Community Church\, 1316 E 5th St.\, Superior\, WI\, 54880\, United States
END:VEVENT
BEGIN:VEVENT
DTSTART;TZID=America/Chicago:20260426T100000
DTEND;TZID=America/Chicago:20260426T113000
DTSTAMP:20260419T070337
CREATED:20240720T202413Z
LAST-MODIFIED:20240720T202413Z
UID:8514-1777197600-1777203000@www.northbaychurch.org
SUMMARY:Sunday Morning Worship
DESCRIPTION:Every Sunday morning we lift high the name of Jesus during our worship service.  We would love to have you worship God with us! \n\nIn-Person Worship starts at 10:00 a.m. as is located at our church building (1316 E 5th St.\, Superior\, WI 54880)\nDuring our in-person worship service we offer a nursery for babies and toddlers\, and children’s church for ages 3-5th grade. We have a wonderful group of volunteers that would love to serve your family.\nWe also offer an online live-streamed worship service on our Facebook Page.\n\n 
URL:https://www.northbaychurch.org/event/sunday-morning-worship-5/2026-04-26/
LOCATION:North Bay Community Church\, 1316 E 5th St.\, Superior\, WI\, 54880\, United States
END:VEVENT
BEGIN:VEVENT
DTSTART;TZID=America/Chicago:20260502T110000
DTEND;TZID=America/Chicago:20260502T130000
DTSTAMP:20260419T070337
CREATED:20260412T014115Z
LAST-MODIFIED:20260412T014115Z
UID:8536-1777719600-1777726800@www.northbaychurch.org
SUMMARY:Blessing of the Babies
DESCRIPTION:All women are invited to a “Blessing of the Babies” event on Saturday\, May 2 from 11:00 a.m. – 1:00 p.m. We have 5 moms welcoming 7 babies and want to bless their families. This is not a baby shower! The main goal is to pray and support expecting families with meal trains. We will also be collecting blessing baskets for the parents. The baskets could include gift cards\, healthy snacks\, or any other small things to support the families. The gifts for the parent baskets will be evenly distributed\, so there’s no pressure to bring something for every single mom or baby. These families are all in need of prayer too! \nDate: Saturday\, May 2\nTime: 11:00 a.m. – 1:00 p.m. \n 
URL:https://www.northbaychurch.org/event/blessing-of-the-babies/
ATTACH;FMTTYPE=image/jpeg:https://northbaychurch-media.s3.us-east-2.amazonaws.com/wp-content/uploads/2026/04/11203512/2024-2-25-Announcements-3.jpg
END:VEVENT
BEGIN:VEVENT
DTSTART;TZID=America/Chicago:20260503T100000
DTEND;TZID=America/Chicago:20260503T113000
DTSTAMP:20260419T070337
CREATED:20240720T202413Z
LAST-MODIFIED:20240720T202413Z
UID:8515-1777802400-1777807800@www.northbaychurch.org
SUMMARY:Sunday Morning Worship
DESCRIPTION:Every Sunday morning we lift high the name of Jesus during our worship service.  We would love to have you worship God with us! \n\nIn-Person Worship starts at 10:00 a.m. as is located at our church building (1316 E 5th St.\, Superior\, WI 54880)\nDuring our in-person worship service we offer a nursery for babies and toddlers\, and children’s church for ages 3-5th grade. We have a wonderful group of volunteers that would love to serve your family.\nWe also offer an online live-streamed worship service on our Facebook Page.\n\n 
URL:https://www.northbaychurch.org/event/sunday-morning-worship-5/2026-05-03/
LOCATION:North Bay Community Church\, 1316 E 5th St.\, Superior\, WI\, 54880\, United States
END:VEVENT
BEGIN:VEVENT
DTSTART;TZID=America/Chicago:20260510T100000
DTEND;TZID=America/Chicago:20260510T113000
DTSTAMP:20260419T070337
CREATED:20240720T202413Z
LAST-MODIFIED:20240720T202413Z
UID:8516-1778407200-1778412600@www.northbaychurch.org
SUMMARY:Sunday Morning Worship
DESCRIPTION:Every Sunday morning we lift high the name of Jesus during our worship service.  We would love to have you worship God with us! \n\nIn-Person Worship starts at 10:00 a.m. as is located at our church building (1316 E 5th St.\, Superior\, WI 54880)\nDuring our in-person worship service we offer a nursery for babies and toddlers\, and children’s church for ages 3-5th grade. We have a wonderful group of volunteers that would love to serve your family.\nWe also offer an online live-streamed worship service on our Facebook Page.\n\n 
URL:https://www.northbaychurch.org/event/sunday-morning-worship-5/2026-05-10/
LOCATION:North Bay Community Church\, 1316 E 5th St.\, Superior\, WI\, 54880\, United States
END:VEVENT
BEGIN:VEVENT
DTSTART;TZID=America/Chicago:20260517T100000
DTEND;TZID=America/Chicago:20260517T113000
DTSTAMP:20260419T070337
CREATED:20240720T202413Z
LAST-MODIFIED:20240720T202413Z
UID:8517-1779012000-1779017400@www.northbaychurch.org
SUMMARY:Sunday Morning Worship
DESCRIPTION:Every Sunday morning we lift high the name of Jesus during our worship service.  We would love to have you worship God with us! \n\nIn-Person Worship starts at 10:00 a.m. as is located at our church building (1316 E 5th St.\, Superior\, WI 54880)\nDuring our in-person worship service we offer a nursery for babies and toddlers\, and children’s church for ages 3-5th grade. We have a wonderful group of volunteers that would love to serve your family.\nWe also offer an online live-streamed worship service on our Facebook Page.\n\n 
URL:https://www.northbaychurch.org/event/sunday-morning-worship-5/2026-05-17/
LOCATION:North Bay Community Church\, 1316 E 5th St.\, Superior\, WI\, 54880\, United States
END:VEVENT
BEGIN:VEVENT
DTSTART;TZID=America/Chicago:20260524T100000
DTEND;TZID=America/Chicago:20260524T113000
DTSTAMP:20260419T070337
CREATED:20240720T202413Z
LAST-MODIFIED:20240720T202413Z
UID:8518-1779616800-1779622200@www.northbaychurch.org
SUMMARY:Sunday Morning Worship
DESCRIPTION:Every Sunday morning we lift high the name of Jesus during our worship service.  We would love to have you worship God with us! \n\nIn-Person Worship starts at 10:00 a.m. as is located at our church building (1316 E 5th St.\, Superior\, WI 54880)\nDuring our in-person worship service we offer a nursery for babies and toddlers\, and children’s church for ages 3-5th grade. We have a wonderful group of volunteers that would love to serve your family.\nWe also offer an online live-streamed worship service on our Facebook Page.\n\n 
URL:https://www.northbaychurch.org/event/sunday-morning-worship-5/2026-05-24/
LOCATION:North Bay Community Church\, 1316 E 5th St.\, Superior\, WI\, 54880\, United States
END:VEVENT
BEGIN:VEVENT
DTSTART;TZID=America/Chicago:20260531T100000
DTEND;TZID=America/Chicago:20260531T113000
DTSTAMP:20260419T070337
CREATED:20240720T202413Z
LAST-MODIFIED:20240720T202413Z
UID:8519-1780221600-1780227000@www.northbaychurch.org
SUMMARY:Sunday Morning Worship
DESCRIPTION:Every Sunday morning we lift high the name of Jesus during our worship service.  We would love to have you worship God with us! \n\nIn-Person Worship starts at 10:00 a.m. as is located at our church building (1316 E 5th St.\, Superior\, WI 54880)\nDuring our in-person worship service we offer a nursery for babies and toddlers\, and children’s church for ages 3-5th grade. We have a wonderful group of volunteers that would love to serve your family.\nWe also offer an online live-streamed worship service on our Facebook Page.\n\n 
URL:https://www.northbaychurch.org/event/sunday-morning-worship-5/2026-05-31/
LOCATION:North Bay Community Church\, 1316 E 5th St.\, Superior\, WI\, 54880\, United States
END:VEVENT
BEGIN:VEVENT
DTSTART;TZID=America/Chicago:20260607T100000
DTEND;TZID=America/Chicago:20260607T113000
DTSTAMP:20260419T070337
CREATED:20240720T202413Z
LAST-MODIFIED:20240720T202413Z
UID:8520-1780826400-1780831800@www.northbaychurch.org
SUMMARY:Sunday Morning Worship
DESCRIPTION:Every Sunday morning we lift high the name of Jesus during our worship service.  We would love to have you worship God with us! \n\nIn-Person Worship starts at 10:00 a.m. as is located at our church building (1316 E 5th St.\, Superior\, WI 54880)\nDuring our in-person worship service we offer a nursery for babies and toddlers\, and children’s church for ages 3-5th grade. We have a wonderful group of volunteers that would love to serve your family.\nWe also offer an online live-streamed worship service on our Facebook Page.\n\n 
URL:https://www.northbaychurch.org/event/sunday-morning-worship-5/2026-06-07/
LOCATION:North Bay Community Church\, 1316 E 5th St.\, Superior\, WI\, 54880\, United States
END:VEVENT
BEGIN:VEVENT
DTSTART;TZID=America/Chicago:20260614T100000
DTEND;TZID=America/Chicago:20260614T113000
DTSTAMP:20260419T070337
CREATED:20240720T202413Z
LAST-MODIFIED:20240720T202413Z
UID:8521-1781431200-1781436600@www.northbaychurch.org
SUMMARY:Sunday Morning Worship
DESCRIPTION:Every Sunday morning we lift high the name of Jesus during our worship service.  We would love to have you worship God with us! \n\nIn-Person Worship starts at 10:00 a.m. as is located at our church building (1316 E 5th St.\, Superior\, WI 54880)\nDuring our in-person worship service we offer a nursery for babies and toddlers\, and children’s church for ages 3-5th grade. We have a wonderful group of volunteers that would love to serve your family.\nWe also offer an online live-streamed worship service on our Facebook Page.\n\n 
URL:https://www.northbaychurch.org/event/sunday-morning-worship-5/2026-06-14/
LOCATION:North Bay Community Church\, 1316 E 5th St.\, Superior\, WI\, 54880\, United States
END:VEVENT
BEGIN:VEVENT
DTSTART;TZID=America/Chicago:20260621T100000
DTEND;TZID=America/Chicago:20260621T113000
DTSTAMP:20260419T070337
CREATED:20240720T202413Z
LAST-MODIFIED:20240720T202413Z
UID:8522-1782036000-1782041400@www.northbaychurch.org
SUMMARY:Sunday Morning Worship
DESCRIPTION:Every Sunday morning we lift high the name of Jesus during our worship service.  We would love to have you worship God with us! \n\nIn-Person Worship starts at 10:00 a.m. as is located at our church building (1316 E 5th St.\, Superior\, WI 54880)\nDuring our in-person worship service we offer a nursery for babies and toddlers\, and children’s church for ages 3-5th grade. We have a wonderful group of volunteers that would love to serve your family.\nWe also offer an online live-streamed worship service on our Facebook Page.\n\n 
URL:https://www.northbaychurch.org/event/sunday-morning-worship-5/2026-06-21/
LOCATION:North Bay Community Church\, 1316 E 5th St.\, Superior\, WI\, 54880\, United States
END:VEVENT
BEGIN:VEVENT
DTSTART;TZID=America/Chicago:20260628T100000
DTEND;TZID=America/Chicago:20260628T113000
DTSTAMP:20260419T070337
CREATED:20240720T202413Z
LAST-MODIFIED:20240720T202413Z
UID:8523-1782640800-1782646200@www.northbaychurch.org
SUMMARY:Sunday Morning Worship
DESCRIPTION:Every Sunday morning we lift high the name of Jesus during our worship service.  We would love to have you worship God with us! \n\nIn-Person Worship starts at 10:00 a.m. as is located at our church building (1316 E 5th St.\, Superior\, WI 54880)\nDuring our in-person worship service we offer a nursery for babies and toddlers\, and children’s church for ages 3-5th grade. We have a wonderful group of volunteers that would love to serve your family.\nWe also offer an online live-streamed worship service on our Facebook Page.\n\n 
URL:https://www.northbaychurch.org/event/sunday-morning-worship-5/2026-06-28/
LOCATION:North Bay Community Church\, 1316 E 5th St.\, Superior\, WI\, 54880\, United States
END:VEVENT
BEGIN:VEVENT
DTSTART;TZID=America/Chicago:20260705T100000
DTEND;TZID=America/Chicago:20260705T113000
DTSTAMP:20260419T070337
CREATED:20240720T202413Z
LAST-MODIFIED:20240720T202413Z
UID:8524-1783245600-1783251000@www.northbaychurch.org
SUMMARY:Sunday Morning Worship
DESCRIPTION:Every Sunday morning we lift high the name of Jesus during our worship service.  We would love to have you worship God with us! \n\nIn-Person Worship starts at 10:00 a.m. as is located at our church building (1316 E 5th St.\, Superior\, WI 54880)\nDuring our in-person worship service we offer a nursery for babies and toddlers\, and children’s church for ages 3-5th grade. We have a wonderful group of volunteers that would love to serve your family.\nWe also offer an online live-streamed worship service on our Facebook Page.\n\n 
URL:https://www.northbaychurch.org/event/sunday-morning-worship-5/2026-07-05/
LOCATION:North Bay Community Church\, 1316 E 5th St.\, Superior\, WI\, 54880\, United States
END:VEVENT
BEGIN:VEVENT
DTSTART;TZID=America/Chicago:20260712T100000
DTEND;TZID=America/Chicago:20260712T113000
DTSTAMP:20260419T070337
CREATED:20240720T202413Z
LAST-MODIFIED:20240720T202413Z
UID:8525-1783850400-1783855800@www.northbaychurch.org
SUMMARY:Sunday Morning Worship
DESCRIPTION:Every Sunday morning we lift high the name of Jesus during our worship service.  We would love to have you worship God with us! \n\nIn-Person Worship starts at 10:00 a.m. as is located at our church building (1316 E 5th St.\, Superior\, WI 54880)\nDuring our in-person worship service we offer a nursery for babies and toddlers\, and children’s church for ages 3-5th grade. We have a wonderful group of volunteers that would love to serve your family.\nWe also offer an online live-streamed worship service on our Facebook Page.\n\n 
URL:https://www.northbaychurch.org/event/sunday-morning-worship-5/2026-07-12/
LOCATION:North Bay Community Church\, 1316 E 5th St.\, Superior\, WI\, 54880\, United States
END:VEVENT
BEGIN:VEVENT
DTSTART;TZID=America/Chicago:20260719T100000
DTEND;TZID=America/Chicago:20260719T113000
DTSTAMP:20260419T070337
CREATED:20240720T202413Z
LAST-MODIFIED:20240720T202413Z
UID:8526-1784455200-1784460600@www.northbaychurch.org
SUMMARY:Sunday Morning Worship
DESCRIPTION:Every Sunday morning we lift high the name of Jesus during our worship service.  We would love to have you worship God with us! \n\nIn-Person Worship starts at 10:00 a.m. as is located at our church building (1316 E 5th St.\, Superior\, WI 54880)\nDuring our in-person worship service we offer a nursery for babies and toddlers\, and children’s church for ages 3-5th grade. We have a wonderful group of volunteers that would love to serve your family.\nWe also offer an online live-streamed worship service on our Facebook Page.\n\n 
URL:https://www.northbaychurch.org/event/sunday-morning-worship-5/2026-07-19/
LOCATION:North Bay Community Church\, 1316 E 5th St.\, Superior\, WI\, 54880\, United States
END:VEVENT
BEGIN:VEVENT
DTSTART;TZID=America/Chicago:20260726T100000
DTEND;TZID=America/Chicago:20260726T113000
DTSTAMP:20260419T070337
CREATED:20240720T202413Z
LAST-MODIFIED:20240720T202413Z
UID:8527-1785060000-1785065400@www.northbaychurch.org
SUMMARY:Sunday Morning Worship
DESCRIPTION:Every Sunday morning we lift high the name of Jesus during our worship service.  We would love to have you worship God with us! \n\nIn-Person Worship starts at 10:00 a.m. as is located at our church building (1316 E 5th St.\, Superior\, WI 54880)\nDuring our in-person worship service we offer a nursery for babies and toddlers\, and children’s church for ages 3-5th grade. We have a wonderful group of volunteers that would love to serve your family.\nWe also offer an online live-streamed worship service on our Facebook Page.\n\n 
URL:https://www.northbaychurch.org/event/sunday-morning-worship-5/2026-07-26/
LOCATION:North Bay Community Church\, 1316 E 5th St.\, Superior\, WI\, 54880\, United States
END:VEVENT
BEGIN:VEVENT
DTSTART;TZID=America/Chicago:20260802T100000
DTEND;TZID=America/Chicago:20260802T113000
DTSTAMP:20260419T070337
CREATED:20240720T202413Z
LAST-MODIFIED:20240720T202413Z
UID:8528-1785664800-1785670200@www.northbaychurch.org
SUMMARY:Sunday Morning Worship
DESCRIPTION:Every Sunday morning we lift high the name of Jesus during our worship service.  We would love to have you worship God with us! \n\nIn-Person Worship starts at 10:00 a.m. as is located at our church building (1316 E 5th St.\, Superior\, WI 54880)\nDuring our in-person worship service we offer a nursery for babies and toddlers\, and children’s church for ages 3-5th grade. We have a wonderful group of volunteers that would love to serve your family.\nWe also offer an online live-streamed worship service on our Facebook Page.\n\n 
URL:https://www.northbaychurch.org/event/sunday-morning-worship-5/2026-08-02/
LOCATION:North Bay Community Church\, 1316 E 5th St.\, Superior\, WI\, 54880\, United States
END:VEVENT
BEGIN:VEVENT
DTSTART;TZID=America/Chicago:20260809T100000
DTEND;TZID=America/Chicago:20260809T113000
DTSTAMP:20260419T070337
CREATED:20240720T202413Z
LAST-MODIFIED:20240720T202413Z
UID:8529-1786269600-1786275000@www.northbaychurch.org
SUMMARY:Sunday Morning Worship
DESCRIPTION:Every Sunday morning we lift high the name of Jesus during our worship service.  We would love to have you worship God with us! \n\nIn-Person Worship starts at 10:00 a.m. as is located at our church building (1316 E 5th St.\, Superior\, WI 54880)\nDuring our in-person worship service we offer a nursery for babies and toddlers\, and children’s church for ages 3-5th grade. We have a wonderful group of volunteers that would love to serve your family.\nWe also offer an online live-streamed worship service on our Facebook Page.\n\n 
URL:https://www.northbaychurch.org/event/sunday-morning-worship-5/2026-08-09/
LOCATION:North Bay Community Church\, 1316 E 5th St.\, Superior\, WI\, 54880\, United States
END:VEVENT
BEGIN:VEVENT
DTSTART;TZID=America/Chicago:20260816T100000
DTEND;TZID=America/Chicago:20260816T113000
DTSTAMP:20260419T070337
CREATED:20240720T202413Z
LAST-MODIFIED:20240720T202413Z
UID:8530-1786874400-1786879800@www.northbaychurch.org
SUMMARY:Sunday Morning Worship
DESCRIPTION:Every Sunday morning we lift high the name of Jesus during our worship service.  We would love to have you worship God with us! \n\nIn-Person Worship starts at 10:00 a.m. as is located at our church building (1316 E 5th St.\, Superior\, WI 54880)\nDuring our in-person worship service we offer a nursery for babies and toddlers\, and children’s church for ages 3-5th grade. We have a wonderful group of volunteers that would love to serve your family.\nWe also offer an online live-streamed worship service on our Facebook Page.\n\n 
URL:https://www.northbaychurch.org/event/sunday-morning-worship-5/2026-08-16/
LOCATION:North Bay Community Church\, 1316 E 5th St.\, Superior\, WI\, 54880\, United States
END:VEVENT
BEGIN:VEVENT
DTSTART;TZID=America/Chicago:20260823T100000
DTEND;TZID=America/Chicago:20260823T113000
DTSTAMP:20260419T070337
CREATED:20240720T202413Z
LAST-MODIFIED:20240720T202413Z
UID:8531-1787479200-1787484600@www.northbaychurch.org
SUMMARY:Sunday Morning Worship
DESCRIPTION:Every Sunday morning we lift high the name of Jesus during our worship service.  We would love to have you worship God with us! \n\nIn-Person Worship starts at 10:00 a.m. as is located at our church building (1316 E 5th St.\, Superior\, WI 54880)\nDuring our in-person worship service we offer a nursery for babies and toddlers\, and children’s church for ages 3-5th grade. We have a wonderful group of volunteers that would love to serve your family.\nWe also offer an online live-streamed worship service on our Facebook Page.\n\n 
URL:https://www.northbaychurch.org/event/sunday-morning-worship-5/2026-08-23/
LOCATION:North Bay Community Church\, 1316 E 5th St.\, Superior\, WI\, 54880\, United States
END:VEVENT
BEGIN:VEVENT
DTSTART;TZID=America/Chicago:20260830T100000
DTEND;TZID=America/Chicago:20260830T113000
DTSTAMP:20260419T070337
CREATED:20240720T202413Z
LAST-MODIFIED:20240720T202413Z
UID:8532-1788084000-1788089400@www.northbaychurch.org
SUMMARY:Sunday Morning Worship
DESCRIPTION:Every Sunday morning we lift high the name of Jesus during our worship service.  We would love to have you worship God with us! \n\nIn-Person Worship starts at 10:00 a.m. as is located at our church building (1316 E 5th St.\, Superior\, WI 54880)\nDuring our in-person worship service we offer a nursery for babies and toddlers\, and children’s church for ages 3-5th grade. We have a wonderful group of volunteers that would love to serve your family.\nWe also offer an online live-streamed worship service on our Facebook Page.\n\n 
URL:https://www.northbaychurch.org/event/sunday-morning-worship-5/2026-08-30/
LOCATION:North Bay Community Church\, 1316 E 5th St.\, Superior\, WI\, 54880\, United States
END:VEVENT
END:VCALENDAR